BEGIN:VCALENDAR
VERSION:2.0
PRODID:-//ANWEB//NONSTOP KINO//EN
CALSCALE:GREGORIAN
BEGIN:VEVENT
DTSTART:20260516T183000Z
DTEND:20260516T205000Z
UID:69ea493642561
DTSTAMP:20260423T143046Z
LOCATION:Filmmuseum, https://www.filmmuseum.at/
DESCRIPTION:Laut Shirley Clarke ist dies ihre Antwort auf die Vérité-Arbeiten von Leacock und Pennebaker: Jason Holliday\, Schwarze männliche Prostituierte und...
URL;VALUE=URI:https://www.filmmuseum.at/
SUMMARY:Portrait of Jason
END:VEVENT
END:VCALENDAR