BEGIN:VCALENDAR
VERSION:2.0
PRODID:-//ANWEB//NONSTOP KINO//EN
CALSCALE:GREGORIAN
BEGIN:VEVENT
DTSTART:20260508T160000Z
DTEND:20260508T181000Z
UID:69ea49467864b
DTSTAMP:20260423T143102Z
LOCATION:Filmmuseum, https://www.filmmuseum.at/
DESCRIPTION:Nothing But a Man\, Roemers bis heute bekanntestes Werk und sein erster Spielfilm als Drehbuchautor und Regisseur\, war bei seiner...
URL;VALUE=URI:https://www.filmmuseum.at/
SUMMARY:Nothing But a Man
END:VEVENT
END:VCALENDAR