BEGIN:VCALENDAR
VERSION:2.0
PRODID:-//ANWEB//NONSTOP KINO//EN
CALSCALE:GREGORIAN
BEGIN:VEVENT
DTSTART:20260510T183000Z
DTEND:20260510T200000Z
UID:69ea498eed14e
DTSTAMP:20260423T143214Z
LOCATION:Filmmuseum, https://www.filmmuseum.at/
DESCRIPTION:Davor: A Moment in Love Shirley Clarke\; Drehbuch\, Schnitt: Shirley Clarke\; Kamera: Bert Clarke\, Shirley Clarke\; Musik: Norman Lloyd\; Darsteller*innen:...
URL;VALUE=URI:https://www.filmmuseum.at/
SUMMARY:Robert Frost: A Lover's Quarrel with the World
END:VEVENT
END:VCALENDAR