BEGIN:VCALENDAR
VERSION:2.0
PRODID:-//ANWEB//NONSTOP KINO//EN
CALSCALE:GREGORIAN
BEGIN:VEVENT
DTSTART:20260523T230000Z
DTEND:20260524T003000Z
UID:69ea49eaa4d2e
DTSTAMP:20260423T143346Z
LOCATION:Filmmuseum, https://www.filmmuseum.at/
DESCRIPTION:Davor: A Moment in Love Shirley Clarke\; Drehbuch\, Schnitt: Shirley Clarke\; Kamera: Bert Clarke\, Shirley Clarke\; Musik: Norman Lloyd\; Darsteller*innen:...
URL;VALUE=URI:https://www.filmmuseum.at/
SUMMARY:Robert Frost: A Lover's Quarrel with the World
END:VEVENT
END:VCALENDAR