BEGIN:VCALENDAR
VERSION:2.0
PRODID:-//ANWEB//NONSTOP KINO//EN
CALSCALE:GREGORIAN
BEGIN:VEVENT
DTSTART:20260511T183000Z
DTEND:20260511T201000Z
UID:69ea4cb5d1b31
DTSTAMP:20260423T144541Z
LOCATION:Filmmuseum, https://www.filmmuseum.at/
DESCRIPTION:Dimitri ist Fotograf\, lebt in Paris und liebt es\, alles um ihn herum mit der Kamera festzuhalten. Jedoch lässt ihn...
URL;VALUE=URI:https://www.filmmuseum.at/
SUMMARY:The Hidden Face of the Earth
END:VEVENT
END:VCALENDAR