BEGIN:VCALENDAR
VERSION:2.0
PRODID:-//ANWEB//NONSTOP KINO//EN
CALSCALE:GREGORIAN
BEGIN:VEVENT
DTSTART:20260601T183000Z
DTEND:20260601T203000Z
UID:69ea495bb0f51
DTSTAMP:20260423T143123Z
LOCATION:Filmmuseum, https://www.filmmuseum.at/
DESCRIPTION:The Plot Against Harry\, die Geschichte eines jüdischen Buchmachers\, der\, gerade aus dem Gefängnis entlassen\, sein verlorenes Terrain zurückgewinnen will\,...
URL;VALUE=URI:https://www.filmmuseum.at/
SUMMARY:The Plot Against Harry
END:VEVENT
END:VCALENDAR