BEGIN:VCALENDAR
VERSION:2.0
PRODID:-//ANWEB//NONSTOP KINO//EN
CALSCALE:GREGORIAN
BEGIN:VEVENT
DTSTART:20260524T183000Z
DTEND:20260524T203000Z
UID:69ea49f098bc0
DTSTAMP:20260423T143352Z
LOCATION:Filmmuseum, https://www.filmmuseum.at/
DESCRIPTION:Ornette: Made in America folgt in dokumentarischen Aufnahmen und avantgardistischen Musikvideo-Segmenten der Laufbahn des berühmten Jazzmusikers und Komponisten Ornette Coleman...
URL;VALUE=URI:https://www.filmmuseum.at/
SUMMARY:Ornette: Made in America
END:VEVENT
END:VCALENDAR