BEGIN:VCALENDAR
VERSION:2.0
PRODID:-//ANWEB//NONSTOP KINO//EN
CALSCALE:GREGORIAN
BEGIN:VEVENT
DTSTART:20260515T183000Z
DTEND:20260515T214000Z
UID:69ea4a051dbfb
DTSTAMP:20260423T143413Z
LOCATION:Filmmuseum, https://www.filmmuseum.at/
DESCRIPTION:Vladimir Nabokovs Roman über die pädophile Obsession eines Literaturprofessors wurde in den 1950ern zum Skandal\, dadurch auch zum Welterfolg –...
URL;VALUE=URI:https://www.filmmuseum.at/
SUMMARY:Lolita
END:VEVENT
END:VCALENDAR