BEGIN:VCALENDAR
VERSION:2.0
PRODID:-//ANWEB//NONSTOP KINO//EN
CALSCALE:GREGORIAN
BEGIN:VEVENT
DTSTART:20260517T150000Z
DTEND:20260517T184000Z
UID:69ea49999e5b2
DTSTAMP:20260423T143225Z
LOCATION:Filmmuseum, https://www.filmmuseum.at/
DESCRIPTION:Im Alter von nur 32 Jahren übernimmt Stanley Kubrick auf Wunsch von Kirk Douglas nach Anthony Manns Ausscheiden die Regie...
URL;VALUE=URI:https://www.filmmuseum.at/
SUMMARY:Spartacus
END:VEVENT
END:VCALENDAR