BEGIN:VCALENDAR
VERSION:2.0
PRODID:-//ANWEB//NONSTOP KINO//EN
CALSCALE:GREGORIAN
BEGIN:VEVENT
DTSTART:20260517T190000Z
DTEND:20260517T210000Z
UID:69ea4a047d3b2
DTSTAMP:20260423T143412Z
LOCATION:Filmmuseum, https://www.filmmuseum.at/
DESCRIPTION:Der Fernsehdokumentarfilm Dying begleitet drei unheilbar erkrankte Menschen\, die sich ihrem bevorstehenden Tod stellen müssen\, über den Zeitraum von zwei...
URL;VALUE=URI:https://www.filmmuseum.at/
SUMMARY:Dying
END:VEVENT
END:VCALENDAR