BEGIN:VCALENDAR
VERSION:2.0
PRODID:-//ANWEB//NONSTOP KINO//EN
CALSCALE:GREGORIAN
BEGIN:VEVENT
DTSTART:20260609T160000Z
DTEND:20260609T181000Z
UID:69ea4b2f7dac3
DTSTAMP:20260423T143911Z
LOCATION:Filmmuseum, https://www.filmmuseum.at/
DESCRIPTION:"Gentlemen\, you can't fight in here\, this is the war room!" Stanley Kubricks letztes Wort zur atomaren Angst: eine Weltuntergangskomödie\,...
URL;VALUE=URI:https://www.filmmuseum.at/
SUMMARY:Dr. Strangelove or: How I Learned to Stop Worrying and Love the Bomb
END:VEVENT
END:VCALENDAR