BEGIN:VCALENDAR
VERSION:2.0
PRODID:-//ANWEB//NONSTOP KINO//EN
CALSCALE:GREGORIAN
BEGIN:VEVENT
DTSTART:20260519T183000Z
DTEND:20260519T203000Z
UID:69ea49ae72577
DTSTAMP:20260423T143246Z
LOCATION:Filmmuseum, https://www.filmmuseum.at/
DESCRIPTION:Dennis Doros und Amy Heller von Milestone Film & Video – einem Verleih\, der sich der Filmkunst außerhalb des Mainstreams...
URL;VALUE=URI:https://www.filmmuseum.at/
SUMMARY:Clarke Ephemera: Early unfinished works and other rarities
END:VEVENT
END:VCALENDAR