BEGIN:VCALENDAR
VERSION:2.0
PRODID:-//ANWEB//NONSTOP KINO//EN
CALSCALE:GREGORIAN
BEGIN:VEVENT
DTSTART:20260521T160000Z
DTEND:20260521T175000Z
UID:69ea4b966291a
DTSTAMP:20260423T144054Z
LOCATION:Filmmuseum, https://www.filmmuseum.at/
DESCRIPTION:Cortile Cascino war in seiner Schonungslosigkeit seiner Zeit so weit voraus\, dass die Verantwortlichen beim Fernsehsender NBC beschlossen\, ihn nicht...
URL;VALUE=URI:https://www.filmmuseum.at/
SUMMARY:Cortile Cascino / Faces of Israel
END:VEVENT
END:VCALENDAR