BEGIN:VCALENDAR
VERSION:2.0
PRODID:-//ANWEB//NONSTOP KINO//EN
CALSCALE:GREGORIAN
BEGIN:VEVENT
DTSTART:20260528T180000Z
DTEND:20260528T200000Z
UID:69ea4947bd119
DTSTAMP:20260423T143103Z
LOCATION:Filmmuseum, https://www.filmmuseum.at/
DESCRIPTION:Die Reduktion\, der Kurzfilm als Destillat\, das einen neuen\, konzentrierten Blick ermöglicht\, ist ein zentraler Aspekt meines filmischen Denkens. Ebenso...
URL;VALUE=URI:https://www.filmmuseum.at/
SUMMARY:Widerspiegelnde Lichter – Programm 2
END:VEVENT
END:VCALENDAR