BEGIN:VCALENDAR
VERSION:2.0
PRODID:-//ANWEB//NONSTOP KINO//EN
CALSCALE:GREGORIAN
BEGIN:VEVENT
DTSTART:20260529T183000Z
DTEND:20260529T203000Z
UID:69ea493642e97
DTSTAMP:20260423T143046Z
LOCATION:Filmmuseum, https://www.filmmuseum.at/
DESCRIPTION:Penkelemes Onyeka Igwe\, GB/NG 2025\, DCP\, Farbe\, 18 min We Need New Names Onyeka Igwe\, GB 2015\, DCP\, Farbe\, 14...
URL;VALUE=URI:https://www.filmmuseum.at/
SUMMARY:Bewegungen in der Zeit
END:VEVENT
END:VCALENDAR