BEGIN:VCALENDAR
VERSION:2.0
PRODID:-//ANWEB//NONSTOP KINO//EN
CALSCALE:GREGORIAN
BEGIN:VEVENT
DTSTART:20260425T200000Z
DTEND:20260425T220000Z
UID:69e9720825b52
DTSTAMP:20260422T231240Z
LOCATION:Filmzentrum im Rechbauerkino, 
DESCRIPTION:FREDDY GOT FINGERED (engl. OV) – zum 25. Jubiläum zum ersten Mal in Österreich im Kino. Vor bald genau 25...
URL;VALUE=URI:
SUMMARY:Freddy Got Fingered
END:VEVENT
END:VCALENDAR