BEGIN:VCALENDAR
VERSION:2.0
PRODID:-//ANWEB//NONSTOP KINO//EN
CALSCALE:GREGORIAN
BEGIN:VEVENT
DTSTART:20260427T141500Z
DTEND:20260427T163500Z
UID:69ecd1f8b379a
DTSTAMP:20260425T123848Z
LOCATION:Filmzentrum im Rechbauerkino, 
DESCRIPTION:In den Wirren des 30-jährigen Krieges erscheint ein fremder Soldat (ROSE) in einem abgeschiedenen\, protestantischen Dorf und behauptet\, der Erbe...
URL;VALUE=URI:
SUMMARY:Rose
END:VEVENT
END:VCALENDAR