BEGIN:VCALENDAR
VERSION:2.0
PRODID:-//ANWEB//NONSTOP KINO//EN
CALSCALE:GREGORIAN
BEGIN:VEVENT
DTSTART:20260429T141500Z
DTEND:20260429T163500Z
UID:69ecd03ca2f85
DTSTAMP:20260425T123124Z
LOCATION:Filmzentrum im Rechbauerkino, 
DESCRIPTION:In den Wirren des 30-jährigen Krieges erscheint ein fremder Soldat (ROSE) in einem abgeschiedenen\, protestantischen Dorf und behauptet\, der Erbe...
URL;VALUE=URI:
SUMMARY:Rose
END:VEVENT
END:VCALENDAR