BEGIN:VCALENDAR
VERSION:2.0
PRODID:-//ANWEB//NONSTOP KINO//EN
CALSCALE:GREGORIAN
BEGIN:VEVENT
DTSTART:20260425T163000Z
DTEND:20260425T185000Z
UID:69ecd0945cd2d
DTSTAMP:20260425T123252Z
LOCATION:CineCenter, https://www.cinecenter.at/
DESCRIPTION:In den Wirren des 30-jährigen Krieges erscheint ein fremder Soldat (ROSE) in einem abgeschiedenen\, protestantischen Dorf und behauptet\, der Erbe...
URL;VALUE=URI:https://www.cinecenter.at/
SUMMARY:Rose
END:VEVENT
END:VCALENDAR