BEGIN:VCALENDAR
VERSION:2.0
PRODID:-//ANWEB//NONSTOP KINO//EN
CALSCALE:GREGORIAN
BEGIN:VEVENT
DTSTART:20260428T143000Z
DTEND:20260428T165000Z
UID:69ecd0ee2bf55
DTSTAMP:20260425T123422Z
LOCATION:CineCenter, https://www.cinecenter.at/
DESCRIPTION:In den Wirren des 30-jährigen Krieges erscheint ein fremder Soldat (ROSE) in einem abgeschiedenen\, protestantischen Dorf und behauptet\, der Erbe...
URL;VALUE=URI:https://www.cinecenter.at/
SUMMARY:Rose
END:VEVENT
END:VCALENDAR