BEGIN:VCALENDAR
VERSION:2.0
PRODID:-//ANWEB//NONSTOP KINO//EN
CALSCALE:GREGORIAN
BEGIN:VEVENT
DTSTART:20260429T141500Z
DTEND:20260429T162500Z
UID:69eb92b062401
DTSTAMP:20260424T135632Z
LOCATION:Votiv Kino, https://www.votivkino.at/
DESCRIPTION:Ein geheimnisvolles Wesen entdeckt in naher Zukunft eine Welt ohne Menschen und macht sich daran\, die Ursache für das Verschwinden...
URL;VALUE=URI:https://www.votivkino.at/
SUMMARY:Hungrig
END:VEVENT
END:VCALENDAR