BEGIN:VCALENDAR
VERSION:2.0
PRODID:-//ANWEB//NONSTOP KINO//EN
CALSCALE:GREGORIAN
BEGIN:VEVENT
DTSTART:20260426T163000Z
DTEND:20260426T185000Z
UID:69ecd0a98cf95
DTSTAMP:20260425T123313Z
LOCATION:Votiv Kino, https://www.votivkino.at/
DESCRIPTION:In den Wirren des 30-jährigen Krieges erscheint ein fremder Soldat (ROSE) in einem abgeschiedenen\, protestantischen Dorf und behauptet\, der Erbe...
URL;VALUE=URI:https://www.votivkino.at/
SUMMARY:Rose
END:VEVENT
END:VCALENDAR