BEGIN:VCALENDAR
VERSION:2.0
PRODID:-//ANWEB//NONSTOP KINO//EN
CALSCALE:GREGORIAN
BEGIN:VEVENT
DTSTART:20260425T183000Z
DTEND:20260425T205000Z
UID:69ecd02805182
DTSTAMP:20260425T123104Z
LOCATION:Moviemento, https://moviemento.at/
DESCRIPTION:In den Wirren des 30-jährigen Krieges erscheint ein fremder Soldat (ROSE) in einem abgeschiedenen\, protestantischen Dorf und behauptet\, der Erbe...
URL;VALUE=URI:https://moviemento.at/
SUMMARY:Rose
END:VEVENT
END:VCALENDAR