BEGIN:VCALENDAR
VERSION:2.0
PRODID:-//ANWEB//NONSTOP KINO//EN
CALSCALE:GREGORIAN
BEGIN:VEVENT
DTSTART:20260426T174500Z
DTEND:20260426T200500Z
UID:69ecd027d7e7c
DTSTAMP:20260425T123103Z
LOCATION:Moviemento, https://moviemento.at/
DESCRIPTION:In den Wirren des 30-jährigen Krieges erscheint ein fremder Soldat (ROSE) in einem abgeschiedenen\, protestantischen Dorf und behauptet\, der Erbe...
URL;VALUE=URI:https://moviemento.at/
SUMMARY:Rose
END:VEVENT
END:VCALENDAR