BEGIN:VCALENDAR
VERSION:2.0
PRODID:-//ANWEB//NONSTOP KINO//EN
CALSCALE:GREGORIAN
BEGIN:VEVENT
DTSTART:20260428T180500Z
DTEND:20260428T202500Z
UID:69ecd015f3f6c
DTSTAMP:20260425T123045Z
LOCATION:De France, https://www.votivkino.at/
DESCRIPTION:In den Wirren des 30-jährigen Krieges erscheint ein fremder Soldat (ROSE) in einem abgeschiedenen\, protestantischen Dorf und behauptet\, der Erbe...
URL;VALUE=URI:https://www.votivkino.at/
SUMMARY:Rose
END:VEVENT
END:VCALENDAR