BEGIN:VCALENDAR
VERSION:2.0
PRODID:-//ANWEB//NONSTOP KINO//EN
CALSCALE:GREGORIAN
BEGIN:VEVENT
DTSTART:20260428T161500Z
DTEND:20260428T182500Z
UID:69eb9319a7ac7
DTSTAMP:20260424T135817Z
LOCATION:De France, https://www.votivkino.at/
DESCRIPTION:Ein geheimnisvolles Wesen entdeckt in naher Zukunft eine Welt ohne Menschen und macht sich daran\, die Ursache für das Verschwinden...
URL;VALUE=URI:https://www.votivkino.at/
SUMMARY:Hungrig
END:VEVENT
END:VCALENDAR