BEGIN:VCALENDAR
VERSION:2.0
PRODID:-//ANWEB//NONSTOP KINO//EN
CALSCALE:GREGORIAN
BEGIN:VEVENT
DTSTART:20260615T183000Z
DTEND:20260615T203000Z
UID:69e876685977a
DTSTAMP:20260422T051904Z
LOCATION:Admiral Kino, https://www.admiralkino.at/
DESCRIPTION:Erzählt die Liebesgeschichte von Rama und Hindu-Göttin Sita\, in bunten Animations-Techniken und Musikeinlagen im Stil eines Bollywood-Musicals. Die Republic of...
URL;VALUE=URI:https://www.admiralkino.at/
SUMMARY:Sita Sings The Blues
END:VEVENT
END:VCALENDAR