BEGIN:VCALENDAR
VERSION:2.0
PRODID:-//ANWEB//NONSTOP KINO//EN
CALSCALE:GREGORIAN
BEGIN:VEVENT
DTSTART:20260428T184500Z
DTEND:20260428T210500Z
UID:69ecd19ae8459
DTSTAMP:20260425T123714Z
LOCATION:Schubert Kino, https://schubertkino.at/
DESCRIPTION:In den Wirren des 30-jährigen Krieges erscheint ein fremder Soldat (ROSE) in einem abgeschiedenen\, protestantischen Dorf und behauptet\, der Erbe...
URL;VALUE=URI:https://schubertkino.at/
SUMMARY:Rose
END:VEVENT
END:VCALENDAR