BEGIN:VCALENDAR
VERSION:2.0
PRODID:-//ANWEB//NONSTOP KINO//EN
CALSCALE:GREGORIAN
BEGIN:VEVENT
DTSTART:20260427T184000Z
DTEND:20260427T205000Z
UID:69eb924f2eaf5
DTSTAMP:20260424T135455Z
LOCATION:KIZ Royalkino, https://kizroyalkino.at/#/daily
DESCRIPTION:Ein geheimnisvolles Wesen entdeckt in naher Zukunft eine Welt ohne Menschen und macht sich daran\, die Ursache für das Verschwinden...
URL;VALUE=URI:https://kizroyalkino.at/#/daily
SUMMARY:Hungrig
END:VEVENT
END:VCALENDAR