BEGIN:VCALENDAR
VERSION:2.0
PRODID:-//ANWEB//NONSTOP KINO//EN
CALSCALE:GREGORIAN
BEGIN:VEVENT
DTSTART:20260428T182000Z
DTEND:20260428T202000Z
UID:69e8787a2cff6
DTSTAMP:20260422T052754Z
LOCATION:KIZ Royalkino, https://kizroyalkino.at/#/daily
DESCRIPTION:
URL;VALUE=URI:https://kizroyalkino.at/#/daily
SUMMARY:Nur Pferden gibt man den Gnadenschuss
END:VEVENT
END:VCALENDAR