BEGIN:VCALENDAR
VERSION:2.0
PRODID:-//ANWEB//NONSTOP KINO//EN
CALSCALE:GREGORIAN
BEGIN:VEVENT
DTSTART:20260430T134500Z
DTEND:20260430T160500Z
UID:69ecd03f1daa0
DTSTAMP:20260425T123127Z
LOCATION:KIZ Royalkino, https://kizroyalkino.at/#/daily
DESCRIPTION:In den Wirren des 30-jährigen Krieges erscheint ein fremder Soldat (ROSE) in einem abgeschiedenen\, protestantischen Dorf und behauptet\, der Erbe...
URL;VALUE=URI:https://kizroyalkino.at/#/daily
SUMMARY:Rose
END:VEVENT
END:VCALENDAR