BEGIN:VCALENDAR
VERSION:2.0
PRODID:-//ANWEB//NONSTOP KINO//EN
CALSCALE:GREGORIAN
BEGIN:VEVENT
DTSTART:20260425T181500Z
DTEND:20260425T203500Z
UID:69ecd0961ce82
DTSTAMP:20260425T123254Z
LOCATION:Actors Studio, https://cineplexx.at/cinemas/Actors-Studio
DESCRIPTION:In den Wirren des 30-jährigen Krieges erscheint ein fremder Soldat (ROSE) in einem abgeschiedenen\, protestantischen Dorf und behauptet\, der Erbe...
URL;VALUE=URI:https://cineplexx.at/cinemas/Actors-Studio
SUMMARY:Rose
END:VEVENT
END:VCALENDAR