BEGIN:VCALENDAR
VERSION:2.0
PRODID:-//ANWEB//NONSTOP KINO//EN
CALSCALE:GREGORIAN
BEGIN:VEVENT
DTSTART:20260428T160000Z
DTEND:20260428T182000Z
UID:69ecd03d18d3b
DTSTAMP:20260425T123125Z
LOCATION:Urania Kino, https://www.cineplexx.at/cinemas/Urania-Kino
DESCRIPTION:In den Wirren des 30-jährigen Krieges erscheint ein fremder Soldat (ROSE) in einem abgeschiedenen\, protestantischen Dorf und behauptet\, der Erbe...
URL;VALUE=URI:https://www.cineplexx.at/cinemas/Urania-Kino
SUMMARY:Rose
END:VEVENT
END:VCALENDAR