BEGIN:VCALENDAR
VERSION:2.0
PRODID:-//ANWEB//NONSTOP KINO//EN
CALSCALE:GREGORIAN
BEGIN:VEVENT
DTSTART:20260430T160000Z
DTEND:20260430T182000Z
UID:69ecd08ea9dbd
DTSTAMP:20260425T123246Z
LOCATION:Urania Kino, https://www.cineplexx.at/cinemas/Urania-Kino
DESCRIPTION:In den Wirren des 30-jährigen Krieges erscheint ein fremder Soldat (ROSE) in einem abgeschiedenen\, protestantischen Dorf und behauptet\, der Erbe...
URL;VALUE=URI:https://www.cineplexx.at/cinemas/Urania-Kino
SUMMARY:Rose
END:VEVENT
END:VCALENDAR