BEGIN:VCALENDAR
VERSION:2.0
PRODID:-//ANWEB//NONSTOP KINO//EN
CALSCALE:GREGORIAN
BEGIN:VEVENT
DTSTART:20260430T174500Z
DTEND:20260430T200500Z
UID:69ecd1f3848b1
DTSTAMP:20260425T123843Z
LOCATION:DAS KINO, https://www.daskino.at/
DESCRIPTION:In den Wirren des 30-jährigen Krieges erscheint ein fremder Soldat (ROSE) in einem abgeschiedenen\, protestantischen Dorf und behauptet\, der Erbe...
URL;VALUE=URI:https://www.daskino.at/
SUMMARY:Rose
END:VEVENT
END:VCALENDAR