BEGIN:VCALENDAR
VERSION:2.0
PRODID:-//ANWEB//NONSTOP KINO//EN
CALSCALE:GREGORIAN
BEGIN:VEVENT
DTSTART:20260424T194500Z
DTEND:20260424T214500Z
UID:69e87263eb1d7
DTSTAMP:20260422T050155Z
LOCATION:Gartenbaukino, http://gartenbaukino.at/
DESCRIPTION:
URL;VALUE=URI:http://gartenbaukino.at/
SUMMARY:The Fin
END:VEVENT
END:VCALENDAR