BEGIN:VCALENDAR
VERSION:2.0
PRODID:-//ANWEB//NONSTOP KINO//EN
CALSCALE:GREGORIAN
BEGIN:VEVENT
DTSTART:20260425T140000Z
DTEND:20260425T160000Z
UID:69e87812db0cf
DTSTAMP:20260422T052610Z
LOCATION:Gartenbaukino, http://gartenbaukino.at/
DESCRIPTION:
URL;VALUE=URI:http://gartenbaukino.at/
SUMMARY:Pecker
END:VEVENT
END:VCALENDAR