BEGIN:VCALENDAR
VERSION:2.0
PRODID:-//ANWEB//NONSTOP KINO//EN
CALSCALE:GREGORIAN
BEGIN:VEVENT
DTSTART:20260425T160000Z
DTEND:20260425T182000Z
UID:69ecd0178329a
DTSTAMP:20260425T123047Z
LOCATION:Gartenbaukino, http://gartenbaukino.at/
DESCRIPTION:In den Wirren des 30-jährigen Krieges erscheint ein fremder Soldat (ROSE) in einem abgeschiedenen\, protestantischen Dorf und behauptet\, der Erbe...
URL;VALUE=URI:http://gartenbaukino.at/
SUMMARY:Rose
END:VEVENT
END:VCALENDAR