BEGIN:VCALENDAR
VERSION:2.0
PRODID:-//ANWEB//NONSTOP KINO//EN
CALSCALE:GREGORIAN
BEGIN:VEVENT
DTSTART:20260425T180000Z
DTEND:20260425T201000Z
UID:69e8749fc01fd
DTSTAMP:20260422T051127Z
LOCATION:Gartenbaukino, http://gartenbaukino.at/
DESCRIPTION:Teil der Special Reihe JOHN WATERS: THE RESPECTABLE YEARS Tracy Turnblad: Oh\, Mother you're so fifties. Baltimore\, 1962: Tracy Turnblad...
URL;VALUE=URI:http://gartenbaukino.at/
SUMMARY:Hairspray (35mm)
END:VEVENT
END:VCALENDAR