BEGIN:VCALENDAR
VERSION:2.0
PRODID:-//ANWEB//NONSTOP KINO//EN
CALSCALE:GREGORIAN
BEGIN:VEVENT
DTSTART:20260426T100000Z
DTEND:20260426T120000Z
UID:69e8750dc6a2a
DTSTAMP:20260422T051317Z
LOCATION:Gartenbaukino, http://gartenbaukino.at/
DESCRIPTION:
URL;VALUE=URI:http://gartenbaukino.at/
SUMMARY:French Cancan
END:VEVENT
END:VCALENDAR