BEGIN:VCALENDAR
VERSION:2.0
PRODID:-//ANWEB//NONSTOP KINO//EN
CALSCALE:GREGORIAN
BEGIN:VEVENT
DTSTART:20260428T160000Z
DTEND:20260428T180000Z
UID:69e8756612828
DTSTAMP:20260422T051446Z
LOCATION:Haydn Kino, https://www.haydnkino.at/Cinema/Overview
DESCRIPTION:
URL;VALUE=URI:https://www.haydnkino.at/Cinema/Overview
SUMMARY:That Time I Got Reincarnated as a Slime the Movie: Tears of the Azure Sea
END:VEVENT
END:VCALENDAR