BEGIN:VCALENDAR
VERSION:2.0
PRODID:-//ANWEB//NONSTOP KINO//EN
CALSCALE:GREGORIAN
BEGIN:VEVENT
DTSTART:20260424T180000Z
DTEND:20260424T200000Z
UID:69e8757c80799
DTSTAMP:20260422T051508Z
LOCATION:Breitenseer Lichtspiele, https://breitenseer-lichtspiele.at/
DESCRIPTION:
URL;VALUE=URI:https://breitenseer-lichtspiele.at/
SUMMARY:Gruber&Turneim vertonen: Black Pirate Poetry
END:VEVENT
END:VCALENDAR