BEGIN:VCALENDAR
VERSION:2.0
PRODID:-//ANWEB//NONSTOP KINO//EN
CALSCALE:GREGORIAN
BEGIN:VEVENT
DTSTART:20260426T170000Z
DTEND:20260426T190000Z
UID:69e8762c715b6
DTSTAMP:20260422T051804Z
LOCATION:Breitenseer Lichtspiele, https://breitenseer-lichtspiele.at/
DESCRIPTION:
URL;VALUE=URI:https://breitenseer-lichtspiele.at/
SUMMARY:Gruber&Turnheim vertonen: Laurel&Hardy Poetry Slam
END:VEVENT
END:VCALENDAR