BEGIN:VCALENDAR
VERSION:2.0
PRODID:-//ANWEB//NONSTOP KINO//EN
CALSCALE:GREGORIAN
BEGIN:VEVENT
DTSTART:20260427T161500Z
DTEND:20260427T180500Z
UID:69ecd1464a167
DTSTAMP:20260425T123550Z
LOCATION:Stadtkino Wien, https://stadtkinowien.at/
DESCRIPTION:Aufwachsen in Teheran\, einer Hauptstadt des 21. Jahrhunderts… Von 2007 bis 2025\, in einer liebevollen Familie\, achtzehn Jahre im Leben...
URL;VALUE=URI:https://stadtkinowien.at/
SUMMARY:All my Sisters
END:VEVENT
END:VCALENDAR