BEGIN:VCALENDAR
VERSION:2.0
PRODID:-//ANWEB//NONSTOP KINO//EN
CALSCALE:GREGORIAN
BEGIN:VEVENT
DTSTART:20260425T181000Z
DTEND:20260425T203000Z
UID:69ecd0972447b
DTSTAMP:20260425T123255Z
LOCATION:Kino Freistadt, https://www.kino-freistadt.at/
DESCRIPTION:In den Wirren des 30-jährigen Krieges erscheint ein fremder Soldat (ROSE) in einem abgeschiedenen\, protestantischen Dorf und behauptet\, der Erbe...
URL;VALUE=URI:https://www.kino-freistadt.at/
SUMMARY:Rose
END:VEVENT
END:VCALENDAR