BEGIN:VCALENDAR
VERSION:2.0
PRODID:-//ANWEB//NONSTOP KINO//EN
CALSCALE:GREGORIAN
BEGIN:VEVENT
DTSTART:20260426T093000Z
DTEND:20260426T115000Z
UID:69ecd1f848e88
DTSTAMP:20260425T123848Z
LOCATION:Kino Freistadt, https://www.kino-freistadt.at/
DESCRIPTION:In den Wirren des 30-jährigen Krieges erscheint ein fremder Soldat (ROSE) in einem abgeschiedenen\, protestantischen Dorf und behauptet\, der Erbe...
URL;VALUE=URI:https://www.kino-freistadt.at/
SUMMARY:Rose
END:VEVENT
END:VCALENDAR