BEGIN:VCALENDAR
VERSION:2.0
PRODID:-//ANWEB//NONSTOP KINO//EN
CALSCALE:GREGORIAN
BEGIN:VEVENT
DTSTART:20260425T140000Z
DTEND:20260425T150000Z
UID:69e971283446f
DTSTAMP:20260422T230856Z
LOCATION:Programmkino Wels, https://programmkinowels.at/
DESCRIPTION:Lotta ist fast fünf Jahre alt und wünscht sich zum Geburtstag nichts sehnlicher als ein Fahrrad. Sie hat nämlich nur...
URL;VALUE=URI:https://programmkinowels.at/
SUMMARY:Bilderbuchkino: "Na klar\, Lotta kann Rad fahren"
END:VEVENT
END:VCALENDAR