BEGIN:VCALENDAR
VERSION:2.0
PRODID:-//ANWEB//NONSTOP KINO//EN
CALSCALE:GREGORIAN
BEGIN:VEVENT
DTSTART:20260425T150000Z
DTEND:20260425T172000Z
UID:69ecd19f6ee0f
DTSTAMP:20260425T123719Z
LOCATION:Programmkino Wels, https://programmkinowels.at/
DESCRIPTION:In den Wirren des 30-jährigen Krieges erscheint ein fremder Soldat (ROSE) in einem abgeschiedenen\, protestantischen Dorf und behauptet\, der Erbe...
URL;VALUE=URI:https://programmkinowels.at/
SUMMARY:Rose
END:VEVENT
END:VCALENDAR