BEGIN:VCALENDAR
VERSION:2.0
PRODID:-//ANWEB//NONSTOP KINO//EN
CALSCALE:GREGORIAN
BEGIN:VEVENT
DTSTART:20260428T142000Z
DTEND:20260428T164000Z
UID:69ecd1f93530b
DTSTAMP:20260425T123849Z
LOCATION:Burg Kino, https://burgkino.at/
DESCRIPTION:In den Wirren des 30-jährigen Krieges erscheint ein fremder Soldat (ROSE) in einem abgeschiedenen\, protestantischen Dorf und behauptet\, der Erbe...
URL;VALUE=URI:https://burgkino.at/
SUMMARY:Rose
END:VEVENT
END:VCALENDAR