BEGIN:VCALENDAR
VERSION:2.0
PRODID:-//ANWEB//NONSTOP KINO//EN
CALSCALE:GREGORIAN
BEGIN:VEVENT
DTSTART:20260425T180000Z
DTEND:20260425T201000Z
UID:69eb921e16b3e
DTSTAMP:20260424T135406Z
LOCATION:Leokino, https://www.leokino.at/
DESCRIPTION:Ein geheimnisvolles Wesen entdeckt in naher Zukunft eine Welt ohne Menschen und macht sich daran\, die Ursache für das Verschwinden...
URL;VALUE=URI:https://www.leokino.at/
SUMMARY:Hungrig
END:VEVENT
END:VCALENDAR